BEGIN:VCALENDAR
VERSION:2.0
PRODID:-//St John Mary Vianney - ECPv6.15.20//NONSGML v1.0//EN
CALSCALE:GREGORIAN
METHOD:PUBLISH
X-WR-CALNAME:St John Mary Vianney
X-ORIGINAL-URL:https://www.vianneyvenues.co.uk
X-WR-CALDESC:Events for St John Mary Vianney
REFRESH-INTERVAL;VALUE=DURATION:PT1H
X-Robots-Tag:noindex
X-PUBLISHED-TTL:PT1H
BEGIN:VTIMEZONE
TZID:UTC
BEGIN:STANDARD
TZOFFSETFROM:+0000
TZOFFSETTO:+0000
TZNAME:UTC
DTSTART:20250101T000000
END:STANDARD
END:VTIMEZONE
BEGIN:VEVENT
DTSTART;TZID=UTC:20260424T073000
DTEND;TZID=UTC:20260424T090000
DTSTAMP:20260424T113412
CREATED:20251007T084135Z
LAST-MODIFIED:20251007T084135Z
UID:10013316-1777015800-1777021200@www.vianneyvenues.co.uk
SUMMARY:Little People Fri-AM (TTO)
DESCRIPTION:St Paul’s Fri AM Term Time Only
URL:https://www.vianneyvenues.co.uk/event/little-people-fri-am-tto/2026-04-24/
CATEGORIES:St Paul's Hall
END:VEVENT
BEGIN:VEVENT
DTSTART;TZID=UTC:20260424T100000
DTEND;TZID=UTC:20260424T120000
DTSTAMP:20260424T113412
CREATED:20251104T145823Z
LAST-MODIFIED:20251104T154731Z
UID:10015437-1777024800-1777032000@www.vianneyvenues.co.uk
SUMMARY:Table Tennis (2025-2026)
DESCRIPTION:QH-Main Hall – Members
URL:https://www.vianneyvenues.co.uk/event/table-tennis-2025-2026-2/2026-04-24/
CATEGORIES:Queens Hall
END:VEVENT
BEGIN:VEVENT
DTSTART;TZID=UTC:20260424T100000
DTEND;TZID=UTC:20260424T123000
DTSTAMP:20260424T113412
CREATED:20231220T185354Z
LAST-MODIFIED:20231220T185617Z
UID:10001498-1777024800-1777033800@www.vianneyvenues.co.uk
SUMMARY:Coffee Morning
DESCRIPTION:Bar Lounge \nEveryone welcome
URL:https://www.vianneyvenues.co.uk/event/coffee-morning-2/2026-04-24/
CATEGORIES:Queens Hall
END:VEVENT
BEGIN:VEVENT
DTSTART;TZID=UTC:20260424T153000
DTEND;TZID=UTC:20260424T173000
DTSTAMP:20260424T113412
CREATED:20251007T084727Z
LAST-MODIFIED:20251007T084727Z
UID:10013692-1777044600-1777051800@www.vianneyvenues.co.uk
SUMMARY:Little People Fri-PM (TTO)
DESCRIPTION:St Paul’s Fri PM Term Time Only
URL:https://www.vianneyvenues.co.uk/event/little-people-fri-pm-tto/2026-04-24/
CATEGORIES:St Paul's Hall
END:VEVENT
BEGIN:VEVENT
DTSTART;TZID=UTC:20260425T080000
DTEND;TZID=UTC:20260425T170000
DTSTAMP:20260424T113412
CREATED:20251011T143607Z
LAST-MODIFIED:20251222T192114Z
UID:10015477-1777104000-1777136400@www.vianneyvenues.co.uk
SUMMARY:Royal Scottish Dancing Competition
DESCRIPTION:St Paul’s Hall
URL:https://www.vianneyvenues.co.uk/event/royal-scottish-dancing-competition/2026-04-25/1/
CATEGORIES:St Paul's Hall
END:VEVENT
BEGIN:VEVENT
DTSTART;TZID=UTC:20260425T094500
DTEND;TZID=UTC:20260425T160000
DTSTAMP:20260424T113412
CREATED:20251011T143607Z
LAST-MODIFIED:20251222T192114Z
UID:10014821-1777110300-1777132800@www.vianneyvenues.co.uk
SUMMARY:Royal Scottish Dancing Competition
DESCRIPTION:St Paul’s Hall
URL:https://www.vianneyvenues.co.uk/event/royal-scottish-dancing-competition/2026-04-25/2/
CATEGORIES:St Paul's Hall
END:VEVENT
BEGIN:VEVENT
DTSTART;TZID=UTC:20260425T123000
DTEND;TZID=UTC:20260425T133000
DTSTAMP:20260424T113412
CREATED:20250118T104739Z
LAST-MODIFIED:20250118T104739Z
UID:10010589-1777120200-1777123800@www.vianneyvenues.co.uk
SUMMARY:Legion of Mary
DESCRIPTION:QH Meeting Room
URL:https://www.vianneyvenues.co.uk/event/legion-of-mary/2026-04-25/
CATEGORIES:Queens Hall
END:VEVENT
BEGIN:VEVENT
DTSTART;TZID=UTC:20260425T163000
DTEND;TZID=UTC:20260425T190000
DTSTAMP:20260424T113412
CREATED:20240110T171040Z
LAST-MODIFIED:20240110T171344Z
UID:10006593-1777134600-1777143600@www.vianneyvenues.co.uk
SUMMARY:Vigil Mass 5.30pm - St Paul's Hall Empty from 4.30pm -7.00pm
DESCRIPTION:Events Manager
URL:https://www.vianneyvenues.co.uk/event/vigil-mass-5-30pm-st-pauls-hall-empty-from-4-30pm/2026-04-25/
CATEGORIES:St Paul's Hall
END:VEVENT
BEGIN:VEVENT
DTSTART;TZID=UTC:20260426T093000
DTEND;TZID=UTC:20260426T113000
DTSTAMP:20260424T113412
CREATED:20231220T200155Z
LAST-MODIFIED:20240125T124555Z
UID:10007751-1777195800-1777203000@www.vianneyvenues.co.uk
SUMMARY:Communitea
DESCRIPTION:Main Hall \nEveryone Welcome
URL:https://www.vianneyvenues.co.uk/event/communitea/2026-04-26/
CATEGORIES:Queens Hall
END:VEVENT
BEGIN:VEVENT
DTSTART;TZID=UTC:20260426T103000
DTEND;TZID=UTC:20260426T123000
DTSTAMP:20260424T113412
CREATED:20240110T194033Z
LAST-MODIFIED:20240110T194558Z
UID:10006856-1777199400-1777206600@www.vianneyvenues.co.uk
SUMMARY:Coffee Morning
DESCRIPTION:St Paul’s Hall
URL:https://www.vianneyvenues.co.uk/event/coffee-morning-4/2026-04-26/
CATEGORIES:St Paul's Hall
END:VEVENT
BEGIN:VEVENT
DTSTART;TZID=UTC:20260426T120000
DTEND;TZID=UTC:20260426T140000
DTSTAMP:20260424T113412
CREATED:20260305T005556Z
LAST-MODIFIED:20260305T005556Z
UID:10015630-1777204800-1777212000@www.vianneyvenues.co.uk
SUMMARY:Sunday Social - New Everyone Welcome
DESCRIPTION:Queen’s Hall Bar Lounge
URL:https://www.vianneyvenues.co.uk/event/sunday-social-new-everyone-welcome/2026-04-26/
CATEGORIES:Queens Hall
END:VEVENT
BEGIN:VEVENT
DTSTART;TZID=UTC:20260427T073000
DTEND;TZID=UTC:20260427T090000
DTSTAMP:20260424T113412
CREATED:20251007T083733Z
LAST-MODIFIED:20251007T083832Z
UID:10013035-1777275000-1777280400@www.vianneyvenues.co.uk
SUMMARY:Little People Mon-AM (TTO)
DESCRIPTION:St Paul’s Mon AM Term Time Only
URL:https://www.vianneyvenues.co.uk/event/little-people-mon-am-term-time-only/2026-04-27/
CATEGORIES:St Paul's Hall
END:VEVENT
BEGIN:VEVENT
DTSTART;TZID=UTC:20260427T123000
DTEND;TZID=UTC:20260427T140000
DTSTAMP:20260424T113412
CREATED:20231105T224141Z
LAST-MODIFIED:20231220T120242Z
UID:10000130-1777293000-1777298400@www.vianneyvenues.co.uk
SUMMARY:Parish Coffee
DESCRIPTION:Bar Lounge \nAll very welcome
URL:https://www.vianneyvenues.co.uk/event/parish-coffee/2026-04-27/
CATEGORIES:Queens Hall
END:VEVENT
BEGIN:VEVENT
DTSTART;TZID=UTC:20260427T153000
DTEND;TZID=UTC:20260427T173000
DTSTAMP:20260424T113412
CREATED:20251007T084313Z
LAST-MODIFIED:20251007T084313Z
UID:10013411-1777303800-1777311000@www.vianneyvenues.co.uk
SUMMARY:Little People Mon-PM (TTO)
DESCRIPTION:St Paul’s Mon PM Term Time Only
URL:https://www.vianneyvenues.co.uk/event/little-people-mon-pm-tto/2026-04-27/
CATEGORIES:St Paul's Hall
END:VEVENT
BEGIN:VEVENT
DTSTART;TZID=UTC:20260427T200000
DTEND;TZID=UTC:20260427T213000
DTSTAMP:20260424T113412
CREATED:20231105T225355Z
LAST-MODIFIED:20240209T105504Z
UID:10008091-1777320000-1777325400@www.vianneyvenues.co.uk
SUMMARY:Good In Parts Choir Main Hall
DESCRIPTION:Main Hall \nMembers only \n 
URL:https://www.vianneyvenues.co.uk/event/good-in-part-choir-main-hall/2026-04-27/
CATEGORIES:Queens Hall
END:VEVENT
BEGIN:VEVENT
DTSTART;TZID=UTC:20260428T073000
DTEND;TZID=UTC:20260428T090000
DTSTAMP:20260424T113412
CREATED:20251007T083935Z
LAST-MODIFIED:20251007T083935Z
UID:10013129-1777361400-1777366800@www.vianneyvenues.co.uk
SUMMARY:Little People Tues-AM (TTO)
DESCRIPTION:St Paul’s Tues AM Term Time Only
URL:https://www.vianneyvenues.co.uk/event/little-people-tues-am-tto/2026-04-28/
CATEGORIES:St Paul's Hall
END:VEVENT
BEGIN:VEVENT
DTSTART;TZID=UTC:20260428T093000
DTEND;TZID=UTC:20260428T113000
DTSTAMP:20260424T113412
CREATED:20231220T131237Z
LAST-MODIFIED:20231222T001311Z
UID:10006266-1777368600-1777375800@www.vianneyvenues.co.uk
SUMMARY:Mums & Tots
DESCRIPTION:Main Hall \nAll welcome to join
URL:https://www.vianneyvenues.co.uk/event/mums-tots/2026-04-28/
CATEGORIES:Queens Hall
END:VEVENT
BEGIN:VEVENT
DTSTART;TZID=UTC:20260428T153000
DTEND;TZID=UTC:20260428T163000
DTSTAMP:20260424T113412
CREATED:20251007T140320Z
LAST-MODIFIED:20251007T141222Z
UID:10013892-1777390200-1777393800@www.vianneyvenues.co.uk
SUMMARY:IHOM School - Table Tennis 2025-2026 (TTO)
DESCRIPTION:QH Main Hall Every Tuesday – contact Simon if Hall is required for something else
URL:https://www.vianneyvenues.co.uk/event/ihom-school-table-tennis-2025-2026-tto/2026-04-28/
CATEGORIES:Queens Hall
END:VEVENT
BEGIN:VEVENT
DTSTART;TZID=UTC:20260428T153000
DTEND;TZID=UTC:20260428T173000
DTSTAMP:20260424T113412
CREATED:20251007T084442Z
LAST-MODIFIED:20251007T084442Z
UID:10013505-1777390200-1777397400@www.vianneyvenues.co.uk
SUMMARY:Little People Tues-PM (TTO)
DESCRIPTION:St Paul’s Tues PM Term Time Only
URL:https://www.vianneyvenues.co.uk/event/little-people-tues-pm-tto/2026-04-28/
CATEGORIES:St Paul's Hall
END:VEVENT
BEGIN:VEVENT
DTSTART;TZID=UTC:20260429T073000
DTEND;TZID=UTC:20260429T090000
DTSTAMP:20260424T113412
CREATED:20251007T084033Z
LAST-MODIFIED:20251007T084033Z
UID:10013223-1777447800-1777453200@www.vianneyvenues.co.uk
SUMMARY:Little People Wed-AM (TTO)
DESCRIPTION:St Paul’s Wed AM Term Time Only
URL:https://www.vianneyvenues.co.uk/event/little-people-wed-am-tto/2026-04-29/
CATEGORIES:St Paul's Hall
END:VEVENT
BEGIN:VEVENT
DTSTART;TZID=UTC:20260429T100000
DTEND;TZID=UTC:20260429T123000
DTSTAMP:20260424T113412
CREATED:20231220T162239Z
LAST-MODIFIED:20231220T203736Z
UID:10003475-1777456800-1777465800@www.vianneyvenues.co.uk
SUMMARY:Chatterbox Stitches
DESCRIPTION:Meeting Room \nCome along and join in
URL:https://www.vianneyvenues.co.uk/event/chatterbox-stitches/2026-04-29/
CATEGORIES:Queens Hall
END:VEVENT
BEGIN:VEVENT
DTSTART;TZID=UTC:20260429T123000
DTEND;TZID=UTC:20260429T140000
DTSTAMP:20260424T113412
CREATED:20231220T162634Z
LAST-MODIFIED:20231220T203644Z
UID:10003199-1777465800-1777471200@www.vianneyvenues.co.uk
SUMMARY:Coffee Morning
DESCRIPTION:Bar Lounge \nEveryone Welcome
URL:https://www.vianneyvenues.co.uk/event/coffee-morning/2026-04-29/
CATEGORIES:Queens Hall
END:VEVENT
BEGIN:VEVENT
DTSTART;TZID=UTC:20260429T153000
DTEND;TZID=UTC:20260429T173000
DTSTAMP:20260424T113412
CREATED:20251007T084614Z
LAST-MODIFIED:20251007T084614Z
UID:10013599-1777476600-1777483800@www.vianneyvenues.co.uk
SUMMARY:Little People Wed-PM (TTO)
DESCRIPTION:St Paul’s Wed PM Term Time Only
URL:https://www.vianneyvenues.co.uk/event/little-people-wed-pm-tto/2026-04-29/
CATEGORIES:St Paul's Hall
END:VEVENT
BEGIN:VEVENT
DTSTART;TZID=UTC:20260429T174500
DTEND;TZID=UTC:20260429T194500
DTSTAMP:20260424T113412
CREATED:20251007T074743Z
LAST-MODIFIED:20251007T074743Z
UID:10012371-1777484700-1777491900@www.vianneyvenues.co.uk
SUMMARY:Brownies 2025-2026 (Term Time Only)
DESCRIPTION:Brownies Main Hall \n10.09.25 to 10.12.2025 (out 22.10.25) \nJan-2026-July 2026
URL:https://www.vianneyvenues.co.uk/event/brownies-2025-2026-term-time-only/2026-04-29/
CATEGORIES:Queens Hall
END:VEVENT
BEGIN:VEVENT
DTSTART;TZID=UTC:20260429T190000
DTEND;TZID=UTC:20260429T210000
DTSTAMP:20260424T113412
CREATED:20231221T151007Z
LAST-MODIFIED:20231221T152716Z
UID:10005431-1777489200-1777496400@www.vianneyvenues.co.uk
SUMMARY:SVP Meeting
DESCRIPTION:Meeting Room \nPrivate
URL:https://www.vianneyvenues.co.uk/event/svp-meeting/2026-04-29/
CATEGORIES:Queens Hall
END:VEVENT
BEGIN:VEVENT
DTSTART;TZID=UTC:20260429T200000
DTEND;TZID=UTC:20260429T220000
DTSTAMP:20260424T113412
CREATED:20231220T164435Z
LAST-MODIFIED:20260107T133801Z
UID:10002647-1777492800-1777500000@www.vianneyvenues.co.uk
SUMMARY:Black Tail Fox Rehearsal
DESCRIPTION:Bar / Lounge
URL:https://www.vianneyvenues.co.uk/event/black-tail-fox-rehearsal/2026-04-29/
CATEGORIES:Queens Hall
END:VEVENT
BEGIN:VEVENT
DTSTART;TZID=UTC:20260430T073000
DTEND;TZID=UTC:20260430T090000
DTSTAMP:20260424T113412
CREATED:20251007T084837Z
LAST-MODIFIED:20251007T084837Z
UID:10013787-1777534200-1777539600@www.vianneyvenues.co.uk
SUMMARY:Little People Thurs-AM (TTO)
DESCRIPTION:St Paul’s Thurs AM Term Time Only
URL:https://www.vianneyvenues.co.uk/event/little-people-thurs-am-tto/2026-04-30/
CATEGORIES:St Paul's Hall
END:VEVENT
BEGIN:VEVENT
DTSTART;TZID=UTC:20260430T113000
DTEND;TZID=UTC:20260430T140000
DTSTAMP:20260424T113412
CREATED:20250716T070445Z
LAST-MODIFIED:20250716T071351Z
UID:10010916-1777548600-1777557600@www.vianneyvenues.co.uk
SUMMARY:Celebrating Later Life / CLL (SVP) (5)
DESCRIPTION:C.L.L. takes place Last Thursday Every Month \n12 O’Clock Mass at IHOM Church with lunch after at the Queen’s Hall \n(Note 5 weeks)
URL:https://www.vianneyvenues.co.uk/event/c-l-l-mass-at-ihom-queens-hall-last-thursday-every-month-5/2026-04-30/
CATEGORIES:Queens Hall
END:VEVENT
BEGIN:VEVENT
DTSTART;TZID=UTC:20260430T181500
DTEND;TZID=UTC:20260430T191500
DTSTAMP:20260424T113412
CREATED:20251007T090038Z
LAST-MODIFIED:20251007T090114Z
UID:10013846-1777572900-1777576500@www.vianneyvenues.co.uk
SUMMARY:BEAVERS 2025-2026 (TTO)
DESCRIPTION:BEAVERS – Main Hall Term Time Only
URL:https://www.vianneyvenues.co.uk/event/beavers-2025-2026-tto/2026-04-30/
CATEGORIES:Queens Hall
END:VEVENT
BEGIN:VEVENT
DTSTART;TZID=UTC:20260430T193000
DTEND;TZID=UTC:20260430T210000
DTSTAMP:20260424T113412
CREATED:20251007T073414Z
LAST-MODIFIED:20251007T074401Z
UID:10012061-1777577400-1777582800@www.vianneyvenues.co.uk
SUMMARY:Scouts-2025-26 (Term Time Only)
DESCRIPTION:Queen’s Hall \nSept-Dec 2025 \nJan-July 2026
URL:https://www.vianneyvenues.co.uk/event/scouts-2025-26-term-time-only/2026-04-30/
CATEGORIES:Queens Hall
END:VEVENT
END:VCALENDAR